BEGIN:VCALENDAR
VERSION:2.0
PRODID:-//pretix//pretix.eu//
BEGIN:VTIMEZONE
TZID:Europe/Berlin
BEGIN:STANDARD
DTSTART:20001029T040000
RRULE:FREQ=YEARLY;BYDAY=-1SU;BYMONTH=10
TZNAME:CET
TZOFFSETFROM:+0200
TZOFFSETTO:+0100
END:STANDARD
BEGIN:DAYLIGHT
DTSTART:20000326T030000
RRULE:FREQ=YEARLY;BYDAY=-1SU;BYMONTH=3
TZNAME:CEST
TZOFFSETFROM:+0100
TZOFFSETTO:+0200
END:DAYLIGHT
END:VTIMEZONE
BEGIN:VEVENT
UID:pretix-dacapo-boennigheim-kings-queens-0@shop.dacapo-boennigheim.de
DTSTART;TZID=Europe/Berlin:20251108T200000
DTEND;TZID=Europe/Berlin:20251108T223000
DESCRIPTION:Tickets: https://shop.dacapo-boennigheim.de/kings-queens/\nEinl
 ass: 08.11.2025 19:00\nVeranstalter: da capo Bönnigheim
DTSTAMP:20260421T101521Z
LOCATION:Gemeindehalle Kirchheim am Neckar
SUMMARY:Kings & Queens
END:VEVENT
END:VCALENDAR
